BEGIN:VCALENDAR
VERSION:2.0
PRODID:-//Mozart for Munchkins - ECPv6.15.20//NONSGML v1.0//EN
CALSCALE:GREGORIAN
METHOD:PUBLISH
X-ORIGINAL-URL:https://mozartformunchkins.com
X-WR-CALDESC:Events for Mozart for Munchkins
REFRESH-INTERVAL;VALUE=DURATION:PT1H
X-Robots-Tag:noindex
X-PUBLISHED-TTL:PT1H
BEGIN:VTIMEZONE
TZID:America/New_York
BEGIN:DAYLIGHT
TZOFFSETFROM:-0500
TZOFFSETTO:-0400
TZNAME:EDT
DTSTART:20250309T070000
END:DAYLIGHT
BEGIN:STANDARD
TZOFFSETFROM:-0400
TZOFFSETTO:-0500
TZNAME:EST
DTSTART:20251102T060000
END:STANDARD
BEGIN:DAYLIGHT
TZOFFSETFROM:-0500
TZOFFSETTO:-0400
TZNAME:EDT
DTSTART:20260308T070000
END:DAYLIGHT
BEGIN:STANDARD
TZOFFSETFROM:-0400
TZOFFSETTO:-0500
TZNAME:EST
DTSTART:20261101T060000
END:STANDARD
BEGIN:DAYLIGHT
TZOFFSETFROM:-0500
TZOFFSETTO:-0400
TZNAME:EDT
DTSTART:20270314T070000
END:DAYLIGHT
BEGIN:STANDARD
TZOFFSETFROM:-0400
TZOFFSETTO:-0500
TZNAME:EST
DTSTART:20271107T060000
END:STANDARD
END:VTIMEZONE
BEGIN:VEVENT
DTSTART;TZID=America/New_York:20260516T110000
DTEND;TZID=America/New_York:20260516T120000
DTSTAMP:20260420T044617
CREATED:20260407T155342Z
LAST-MODIFIED:20260407T155342Z
UID:44425-1778929200-1778932800@mozartformunchkins.com
SUMMARY:Hear the Wild: Animals & City Sounds
DESCRIPTION:What does a bird sound like on the violin? Can a piano rumble like thunder or echo the rhythm of a busy street? In Hear the Wild\, Mozart for Munchkins explores how composers transform the sounds of nature and everyday life into music. From playful animal melodies to bustling city rhythms\, this lively concert invites families to listen closely as instruments chirp\, stomp\, swirl\, and sing. Through joyful performance and interactive moments\, audiences of all ages will discover how music captures the voices of the world around us. \nAt the Backyard at Hudson Yards Public Square and Gardens presented by Wells Fargo. \nThis event is free\, but please register using the link here: Spring Family Day at Backyard at Hudson Yards.
URL:https://mozartformunchkins.com/event/hear-the-wild-animals-city-sounds/
LOCATION:Hudson Yards Public Square & Gardens\, 11th Avenue and Hudson Boulevard E\, New York\, 10001\, United States
CATEGORIES:Hudson Yards
ATTACH;FMTTYPE=image/jpeg:https://mozartformunchkins.com/wp-content/uploads/Photo-Jun-17-2022-5-14-14-PM.jpg
END:VEVENT
END:VCALENDAR