BEGIN:VCALENDAR
VERSION:2.0
PRODID:-//Mozart for Munchkins - ECPv6.15.20//NONSGML v1.0//EN
CALSCALE:GREGORIAN
METHOD:PUBLISH
X-ORIGINAL-URL:https://mozartformunchkins.com
X-WR-CALDESC:Events for Mozart for Munchkins
REFRESH-INTERVAL;VALUE=DURATION:PT1H
X-Robots-Tag:noindex
X-PUBLISHED-TTL:PT1H
BEGIN:VTIMEZONE
TZID:America/New_York
BEGIN:DAYLIGHT
TZOFFSETFROM:-0500
TZOFFSETTO:-0400
TZNAME:EDT
DTSTART:20250309T070000
END:DAYLIGHT
BEGIN:STANDARD
TZOFFSETFROM:-0400
TZOFFSETTO:-0500
TZNAME:EST
DTSTART:20251102T060000
END:STANDARD
BEGIN:DAYLIGHT
TZOFFSETFROM:-0500
TZOFFSETTO:-0400
TZNAME:EDT
DTSTART:20260308T070000
END:DAYLIGHT
BEGIN:STANDARD
TZOFFSETFROM:-0400
TZOFFSETTO:-0500
TZNAME:EST
DTSTART:20261101T060000
END:STANDARD
BEGIN:DAYLIGHT
TZOFFSETFROM:-0500
TZOFFSETTO:-0400
TZNAME:EDT
DTSTART:20270314T070000
END:DAYLIGHT
BEGIN:STANDARD
TZOFFSETFROM:-0400
TZOFFSETTO:-0500
TZNAME:EST
DTSTART:20271107T060000
END:STANDARD
END:VTIMEZONE
BEGIN:VEVENT
DTSTART;TZID=America/New_York:20260110T150000
DTEND;TZID=America/New_York:20260110T154500
DTSTAMP:20260423T080901
CREATED:20251103T194918Z
LAST-MODIFIED:20251118T152306Z
UID:42300-1768057200-1768059900@mozartformunchkins.com
SUMMARY:Mozart & Friends with Rockland Conservatory of Music
DESCRIPTION:Join us at Rockland Conservatory of Music’s community concert series for Mozart & Friends\, an enchanting and interactive family concert that brings the joy of classical music to life! Immerse yourself in a vibrant world of waltzing wonders and timeless melodies that will get everyone moving and grooving. \nThis is no ordinary concert! We encourage everyone to participate. From guided sing-alongs to interactive rhythm games\, there’s something for everyone to enjoy. Let’s create wonderful memories together–one step at a time! \nRSVP for this free event here.
URL:https://mozartformunchkins.com/event/mozart-friends-with-rockland-conservatory-of-music/
LOCATION:Rockland Conservatory of Music\, 45 South Main St\, Pearl River\, NY\, 10965\, United States
CATEGORIES:Pearl River
ATTACH;FMTTYPE=image/jpeg:https://mozartformunchkins.com/wp-content/uploads/IMG_7822.jpg
END:VEVENT
END:VCALENDAR