BEGIN:VCALENDAR
VERSION:2.0
PRODID:-//Mozart for Munchkins - ECPv6.15.20//NONSGML v1.0//EN
CALSCALE:GREGORIAN
METHOD:PUBLISH
X-ORIGINAL-URL:https://mozartformunchkins.com
X-WR-CALDESC:Events for Mozart for Munchkins
REFRESH-INTERVAL;VALUE=DURATION:PT1H
X-Robots-Tag:noindex
X-PUBLISHED-TTL:PT1H
BEGIN:VTIMEZONE
TZID:America/New_York
BEGIN:DAYLIGHT
TZOFFSETFROM:-0500
TZOFFSETTO:-0400
TZNAME:EDT
DTSTART:20230312T070000
END:DAYLIGHT
BEGIN:STANDARD
TZOFFSETFROM:-0400
TZOFFSETTO:-0500
TZNAME:EST
DTSTART:20231105T060000
END:STANDARD
BEGIN:DAYLIGHT
TZOFFSETFROM:-0500
TZOFFSETTO:-0400
TZNAME:EDT
DTSTART:20240310T070000
END:DAYLIGHT
BEGIN:STANDARD
TZOFFSETFROM:-0400
TZOFFSETTO:-0500
TZNAME:EST
DTSTART:20241103T060000
END:STANDARD
BEGIN:DAYLIGHT
TZOFFSETFROM:-0500
TZOFFSETTO:-0400
TZNAME:EDT
DTSTART:20250309T070000
END:DAYLIGHT
BEGIN:STANDARD
TZOFFSETFROM:-0400
TZOFFSETTO:-0500
TZNAME:EST
DTSTART:20251102T060000
END:STANDARD
END:VTIMEZONE
BEGIN:VEVENT
DTSTART;TZID=America/New_York:20240615T110000
DTEND;TZID=America/New_York:20240615T120000
DTSTAMP:20260419T124630
CREATED:20240412T174442Z
LAST-MODIFIED:20240507T180314Z
UID:14216-1718449200-1718452800@mozartformunchkins.com
SUMMARY:Dad's Day Delight: A Musical Extravaganza!
DESCRIPTION:Join us for a joyous Father’s Day celebration at the Backyard at Hudson Yards \, presented by Mozart for Munchkins! This program features Musiquita who is delighted to bring together master percussionist Mathias Kunzli\, renowned bassist Steve Whipple\, and dynamic duo Blanca González (vocals/violin) and Jesse Elder (vocals/piano) for an unforgettable concert. This bilingual (Spanish/English) performance is suitable for all ages and promises to be an interactive family music event that will have children and parents alike singing and dancing along to the irresistible rhythms. Don’t miss this opportunity to share in the musical magic and create lasting memories with your loved ones! \nAt the Backyard at Hudson Yards presented by Wells Fargo.
URL:https://mozartformunchkins.com/event/fathers-day-tap/
LOCATION:Hudson Yards Public Square & Gardens\, 11th Avenue and Hudson Boulevard E\, New York\, 10001\, United States
CATEGORIES:Hudson Yards
ATTACH;FMTTYPE=image/jpeg:https://mozartformunchkins.com/wp-content/uploads/image-2.jpg
END:VEVENT
BEGIN:VEVENT
DTSTART;TZID=America/New_York:20240616T110000
DTEND;TZID=America/New_York:20240616T114500
DTSTAMP:20260419T124630
CREATED:20240604T012139Z
LAST-MODIFIED:20240604T013004Z
UID:18170-1718535600-1718538300@mozartformunchkins.com
SUMMARY:Father's Day Bluegrass Brews at Greats of Craft LIC
DESCRIPTION:Celebrate Father’s Day with an unforgettable interactive children’s concert featuring lively bluegrass music! Our talented musicians will keep both kids and dads entertained with toe-tapping tunes and interactive elements throughout the performance\, ensuring a fun and engaging experience for the whole family. \nPlus\, treat Dad to a tasty beverage on your way in at Greats of Craft\, courtesy of the delicious KCBC. Sit back and relax while your kiddo(s) parade around\, dancing and enjoying the vibrant music. It’s the perfect way to enjoy a special day together! \nKids 13 and under are free!
URL:https://mozartformunchkins.com/event/fathers-day-bluegrass-brews-at-greats-of-craft-lic/
LOCATION:Greats of Craft LIC\, 10-15 43rd Ave\, Queens\, NY\, 11101\, United States
CATEGORIES:Long Island City
ATTACH;FMTTYPE=image/jpeg:https://mozartformunchkins.com/wp-content/uploads/ehh-57-scaled.jpg
END:VEVENT
BEGIN:VEVENT
DTSTART;TZID=America/New_York:20240618T090000
DTEND;TZID=America/New_York:20240618T094500
DTSTAMP:20260419T124630
CREATED:20240604T013706Z
LAST-MODIFIED:20240604T014533Z
UID:18174-1718701200-1718703900@mozartformunchkins.com
SUMMARY:Musiquita & Friends
DESCRIPTION:Mozart for Munchkins is thrilled to present Musiquita\, the dynamic duo Blanca Cecilia González (violin/vocals) and Jesse Elder (piano/vocals)\, alongside special guests Steve Whipple on upright bass and Mathias Kunzli on percussion. With a lively mix of bilingual (Spanish/English) songs\, engaging rhythms\, and interactive elements\, this concert promises to get both children and parents singing and dancing together. Don’t miss this delightful musical journey that celebrates cultural diversity and the joy of music. \nWhile this event is free\, we ask that you please RSVP! Thank you to The Hugh for sponsoring this event—be sure to check out their delicious food offerings!
URL:https://mozartformunchkins.com/event/18174/
LOCATION:The Hugh\, 157 E 53rd Street\, New York\, NY\, 10022\, United States
CATEGORIES:Midtown East
ATTACH;FMTTYPE=image/jpeg:https://mozartformunchkins.com/wp-content/uploads/image0-2.jpeg
END:VEVENT
BEGIN:VEVENT
DTSTART;TZID=America/New_York:20240618T100000
DTEND;TZID=America/New_York:20240618T104500
DTSTAMP:20260419T124630
CREATED:20240604T014126Z
LAST-MODIFIED:20240604T015709Z
UID:18177-1718704800-1718707500@mozartformunchkins.com
SUMMARY:Musiquita & Friends
DESCRIPTION:Mozart for Munchkins is thrilled to present Musiquita\, the dynamic duo Blanca Cecilia González (violin/vocals) and Jesse Elder (piano/vocals)\, alongside special guests Steve Whipple on upright bass and Mathias Kunzli on percussion. With a lively mix of bilingual (Spanish/English) songs\, engaging rhythms\, and interactive elements\, this concert promises to get both children and parents singing and dancing together. Don’t miss this delightful musical journey that celebrates cultural diversity and the joy of music. \nWhile this event is free\, we ask that you please RSVP! Thank you to The Hugh for sponsoring this event—be sure to check out their delicious food offerings!
URL:https://mozartformunchkins.com/event/musiquita-friends/
LOCATION:The Hugh\, 157 E 53rd Street\, New York\, NY\, 10022\, United States
CATEGORIES:Midtown East
ATTACH;FMTTYPE=image/jpeg:https://mozartformunchkins.com/wp-content/uploads/IMG_7172.jpg
END:VEVENT
BEGIN:VEVENT
DTSTART;TZID=America/New_York:20240625T090000
DTEND;TZID=America/New_York:20240625T094500
DTSTAMP:20260419T124630
CREATED:20240604T014940Z
LAST-MODIFIED:20240604T015103Z
UID:18182-1719306000-1719308700@mozartformunchkins.com
SUMMARY:Summer Swing
DESCRIPTION:Grab your dancing shoes because we’re bringing the ultimate fusion of jazz\, swing and summer vibes to you. Join us for an unforgettable morning filled with catchy tunes\, rhythms and plenty of opportunities to move and groove. Let’s swing into summer together and make memories that will last a lifetime. \n  \n\nWhile this event is free\, we ask that you please RSVP! Thank you to The Hugh for sponsoring this event–check out their delicious food offerings!
URL:https://mozartformunchkins.com/event/summer-swing-3/
LOCATION:The Hugh\, 157 E 53rd Street\, New York\, NY\, 10022\, United States
CATEGORIES:Midtown East
ATTACH;FMTTYPE=image/jpeg:https://mozartformunchkins.com/wp-content/uploads/IMG_0750.jpg
END:VEVENT
BEGIN:VEVENT
DTSTART;TZID=America/New_York:20240625T100000
DTEND;TZID=America/New_York:20240625T104500
DTSTAMP:20260419T124630
CREATED:20240604T015303Z
LAST-MODIFIED:20240604T015303Z
UID:18184-1719309600-1719312300@mozartformunchkins.com
SUMMARY:Summer Swing
DESCRIPTION:Grab your dancing shoes because we’re bringing the ultimate fusion of jazz\, swing and summer vibes to you. Join us for an unforgettable morning filled with catchy tunes\, rhythms and plenty of opportunities to move and groove. Let’s swing into summer together and make memories that will last a lifetime. \n  \n\nWhile this event is free\, we ask that you please RSVP! Thank you to The Hugh for sponsoring this event–check out their delicious food offerings!
URL:https://mozartformunchkins.com/event/summer-swing-4/
LOCATION:The Hugh\, 157 E 53rd Street\, New York\, NY\, 10022\, United States
CATEGORIES:Midtown East
ATTACH;FMTTYPE=image/jpeg:https://mozartformunchkins.com/wp-content/uploads/FullSizeRender-scaled.jpg
END:VEVENT
END:VCALENDAR