BEGIN:VCALENDAR
VERSION:2.0
PRODID:-//Mozart for Munchkins - ECPv6.15.20//NONSGML v1.0//EN
CALSCALE:GREGORIAN
METHOD:PUBLISH
X-WR-CALNAME:Mozart for Munchkins
X-ORIGINAL-URL:https://mozartformunchkins.com
X-WR-CALDESC:Events for Mozart for Munchkins
REFRESH-INTERVAL;VALUE=DURATION:PT1H
X-Robots-Tag:noindex
X-PUBLISHED-TTL:PT1H
BEGIN:VTIMEZONE
TZID:America/New_York
BEGIN:DAYLIGHT
TZOFFSETFROM:-0500
TZOFFSETTO:-0400
TZNAME:EDT
DTSTART:20240310T070000
END:DAYLIGHT
BEGIN:STANDARD
TZOFFSETFROM:-0400
TZOFFSETTO:-0500
TZNAME:EST
DTSTART:20241103T060000
END:STANDARD
BEGIN:DAYLIGHT
TZOFFSETFROM:-0500
TZOFFSETTO:-0400
TZNAME:EDT
DTSTART:20250309T070000
END:DAYLIGHT
BEGIN:STANDARD
TZOFFSETFROM:-0400
TZOFFSETTO:-0500
TZNAME:EST
DTSTART:20251102T060000
END:STANDARD
BEGIN:DAYLIGHT
TZOFFSETFROM:-0500
TZOFFSETTO:-0400
TZNAME:EDT
DTSTART:20260308T070000
END:DAYLIGHT
BEGIN:STANDARD
TZOFFSETFROM:-0400
TZOFFSETTO:-0500
TZNAME:EST
DTSTART:20261101T060000
END:STANDARD
END:VTIMEZONE
BEGIN:VEVENT
DTSTART;TZID=America/New_York:20251101T110000
DTEND;TZID=America/New_York:20251101T114500
DTSTAMP:20260423T081400
CREATED:20250919T132954Z
LAST-MODIFIED:20251031T125752Z
UID:41191-1761994800-1761997500@mozartformunchkins.com
SUMMARY:Let's Dance (Postponed)
DESCRIPTION:Let’s Dance out the last of the Halloween excitement! Come dressed in your favorite costume\, and join us for an enchanting and interactive family concert that brings the joy of classical music to life! Immerse yourself in a vibrant world of waltzing wonders\, dances\, and timeless melodies that will get everyone moving and grooving. \nThis is no ordinary concert! We encourage everyone to participate. From guided dance-alongs to interactive rhythm games\, there’s something for everyone to enjoy. Let’s create wonderful memories together–one step at a time! \nAnd the best part: Kids under 13 are free!
URL:https://mozartformunchkins.com/event/spooktacular-11/
LOCATION:St. Paul’s Episcopal\, 199 Carroll Street\, New York\, NY\, 11231\, United States
CATEGORIES:Brooklyn
ATTACH;FMTTYPE=image/jpeg:https://mozartformunchkins.com/wp-content/uploads/3529954B-0F30-4D4F-BC8E-110E26095580-scaled.jpeg
END:VEVENT
BEGIN:VEVENT
DTSTART;TZID=America/New_York:20251103T111500
DTEND;TZID=America/New_York:20251103T120000
DTSTAMP:20260423T081400
CREATED:20250905T151752Z
LAST-MODIFIED:20250905T151752Z
UID:40565-1762168500-1762171200@mozartformunchkins.com
SUMMARY:Symphony Superstars with NYPL - West New Brighton Library
DESCRIPTION:Join us for an interactive musical experience with the New York Public Library! Each week\, superstars will encounter a new instrument and learn the fundamentals of rhythm and pitch. Families will be introduced to the violin\, viola\, cello\, piano\, french horn\, trombone\, trumpet\, clarinet\, and more. From jazz to classical\, world music\, bluegrass and more\, this program showcases different genres and gives kids a chance to get up close and personal with the instruments! \nThis program is for children\, birth to 36 months and their caregivers. Program is limited to 15 children. \nVisit the New York Public Library’s website for more information.
URL:https://mozartformunchkins.com/event/symphony-superstars-with-nypl-west-new-brighton-library/2025-11-03/
LOCATION:West New Brighton Library\, 976 Castleton Avenue\, Staten Island\, NY\, 10310\, United States
CATEGORIES:Staten Island
ATTACH;FMTTYPE=image/jpeg:https://mozartformunchkins.com/wp-content/uploads/unnamed-scaled.jpg
END:VEVENT
BEGIN:VEVENT
DTSTART;TZID=America/New_York:20251104T093000
DTEND;TZID=America/New_York:20251104T101500
DTSTAMP:20260423T081400
CREATED:20250820T203548Z
LAST-MODIFIED:20250820T203548Z
UID:43142-1762248600-1762251300@mozartformunchkins.com
SUMMARY:Symphony Superstars at Emanu-El Downtown
DESCRIPTION:Register at this link. Options for semester-long registration or drop-in! \nWelcome to the ultimate musical extravaganza! Symphony Superstars is where the youngest music enthusiasts explore the enchanting world of instruments without missing a beat! \n🥳🎹 Instrument Safari: From violins to trumpets\, our lively lead teacher guides our little Superstars through a different instrument each week. Get ready for a symphony of fun and discovery! \n🌈🎼 Interactive Exploration: Dive into the magic of hands-on learning! Kids will touch\, feel\, and play with instruments from all around the world\, making each session an interactive journey through the symphony. \n🎉🎶From classic tunes to new favorites\, our sessions are filled with giggles and melodies that will have your little Superstar singing along with joy! \nEnroll your tiny maestro today for Symphony Superstars – where every session is a sensational musical adventure without missing a playful note! 🌟🎶
URL:https://mozartformunchkins.com/event/symphony-superstars-at-temple-emanu-el-2/2025-11-04/
LOCATION:Emanu-El Downtown\, 15 W 16th St\, New York\, NY\, 10011\, United States
CATEGORIES:Chelsea
ATTACH;FMTTYPE=image/jpeg:https://mozartformunchkins.com/wp-content/uploads/kid-in-horn.jpg
END:VEVENT
BEGIN:VEVENT
DTSTART;TZID=America/New_York:20251104T110000
DTEND;TZID=America/New_York:20251104T114500
DTSTAMP:20260423T081400
CREATED:20250905T151707Z
LAST-MODIFIED:20250905T151707Z
UID:40556-1762254000-1762256700@mozartformunchkins.com
SUMMARY:Symphony Superstars with NYPL - Van Cortlandt Library
DESCRIPTION:Join us for an interactive musical experience with the New York Public Library! Each week\, superstars will encounter a new instrument and learn the fundamentals of rhythm and pitch. Families will be introduced to the violin\, viola\, cello\, piano\, french horn\, trombone\, trumpet\, clarinet\, and more. From jazz to classical\, world music\, bluegrass and more\, this program showcases different genres and gives kids a chance to get up close and personal with the instruments! \nThis program is for children\, birth to age 5 and their caregivers. Program is limited to 15 children. \nVisit the New York Public Library’s website for more details.
URL:https://mozartformunchkins.com/event/symphony-superstars-with-nypl-van-cortlandt-library/2025-11-04/
LOCATION:Van Cortlandt Library\, 3882 Cannon Place\, Bronx\, NY\, 10463\, United States
CATEGORIES:Bronx
ATTACH;FMTTYPE=image/jpeg:https://mozartformunchkins.com/wp-content/uploads/DSC00291-2-scaled.jpg
END:VEVENT
BEGIN:VEVENT
DTSTART;TZID=America/New_York:20251110T111500
DTEND;TZID=America/New_York:20251110T120000
DTSTAMP:20260423T081400
CREATED:20250905T151752Z
LAST-MODIFIED:20250905T151752Z
UID:40566-1762773300-1762776000@mozartformunchkins.com
SUMMARY:Symphony Superstars with NYPL - West New Brighton Library
DESCRIPTION:Join us for an interactive musical experience with the New York Public Library! Each week\, superstars will encounter a new instrument and learn the fundamentals of rhythm and pitch. Families will be introduced to the violin\, viola\, cello\, piano\, french horn\, trombone\, trumpet\, clarinet\, and more. From jazz to classical\, world music\, bluegrass and more\, this program showcases different genres and gives kids a chance to get up close and personal with the instruments! \nThis program is for children\, birth to 36 months and their caregivers. Program is limited to 15 children. \nVisit the New York Public Library’s website for more information.
URL:https://mozartformunchkins.com/event/symphony-superstars-with-nypl-west-new-brighton-library/2025-11-10/
LOCATION:West New Brighton Library\, 976 Castleton Avenue\, Staten Island\, NY\, 10310\, United States
CATEGORIES:Staten Island
ATTACH;FMTTYPE=image/jpeg:https://mozartformunchkins.com/wp-content/uploads/unnamed-scaled.jpg
END:VEVENT
BEGIN:VEVENT
DTSTART;TZID=America/New_York:20251111T093000
DTEND;TZID=America/New_York:20251111T101500
DTSTAMP:20260423T081400
CREATED:20250820T203548Z
LAST-MODIFIED:20250820T203548Z
UID:43143-1762853400-1762856100@mozartformunchkins.com
SUMMARY:Symphony Superstars at Emanu-El Downtown
DESCRIPTION:Register at this link. Options for semester-long registration or drop-in! \nWelcome to the ultimate musical extravaganza! Symphony Superstars is where the youngest music enthusiasts explore the enchanting world of instruments without missing a beat! \n🥳🎹 Instrument Safari: From violins to trumpets\, our lively lead teacher guides our little Superstars through a different instrument each week. Get ready for a symphony of fun and discovery! \n🌈🎼 Interactive Exploration: Dive into the magic of hands-on learning! Kids will touch\, feel\, and play with instruments from all around the world\, making each session an interactive journey through the symphony. \n🎉🎶From classic tunes to new favorites\, our sessions are filled with giggles and melodies that will have your little Superstar singing along with joy! \nEnroll your tiny maestro today for Symphony Superstars – where every session is a sensational musical adventure without missing a playful note! 🌟🎶
URL:https://mozartformunchkins.com/event/symphony-superstars-at-temple-emanu-el-2/2025-11-11/
LOCATION:Emanu-El Downtown\, 15 W 16th St\, New York\, NY\, 10011\, United States
CATEGORIES:Chelsea
ATTACH;FMTTYPE=image/jpeg:https://mozartformunchkins.com/wp-content/uploads/kid-in-horn.jpg
END:VEVENT
BEGIN:VEVENT
DTSTART;TZID=America/New_York:20251111T110000
DTEND;TZID=America/New_York:20251111T114500
DTSTAMP:20260423T081400
CREATED:20250905T151707Z
LAST-MODIFIED:20250905T151707Z
UID:40557-1762858800-1762861500@mozartformunchkins.com
SUMMARY:Symphony Superstars with NYPL - Van Cortlandt Library
DESCRIPTION:Join us for an interactive musical experience with the New York Public Library! Each week\, superstars will encounter a new instrument and learn the fundamentals of rhythm and pitch. Families will be introduced to the violin\, viola\, cello\, piano\, french horn\, trombone\, trumpet\, clarinet\, and more. From jazz to classical\, world music\, bluegrass and more\, this program showcases different genres and gives kids a chance to get up close and personal with the instruments! \nThis program is for children\, birth to age 5 and their caregivers. Program is limited to 15 children. \nVisit the New York Public Library’s website for more details.
URL:https://mozartformunchkins.com/event/symphony-superstars-with-nypl-van-cortlandt-library/2025-11-11/
LOCATION:Van Cortlandt Library\, 3882 Cannon Place\, Bronx\, NY\, 10463\, United States
CATEGORIES:Bronx
ATTACH;FMTTYPE=image/jpeg:https://mozartformunchkins.com/wp-content/uploads/DSC00291-2-scaled.jpg
END:VEVENT
BEGIN:VEVENT
DTSTART;TZID=America/New_York:20251117T111500
DTEND;TZID=America/New_York:20251117T120000
DTSTAMP:20260423T081400
CREATED:20250905T151752Z
LAST-MODIFIED:20250905T151752Z
UID:40567-1763378100-1763380800@mozartformunchkins.com
SUMMARY:Symphony Superstars with NYPL - West New Brighton Library
DESCRIPTION:Join us for an interactive musical experience with the New York Public Library! Each week\, superstars will encounter a new instrument and learn the fundamentals of rhythm and pitch. Families will be introduced to the violin\, viola\, cello\, piano\, french horn\, trombone\, trumpet\, clarinet\, and more. From jazz to classical\, world music\, bluegrass and more\, this program showcases different genres and gives kids a chance to get up close and personal with the instruments! \nThis program is for children\, birth to 36 months and their caregivers. Program is limited to 15 children. \nVisit the New York Public Library’s website for more information.
URL:https://mozartformunchkins.com/event/symphony-superstars-with-nypl-west-new-brighton-library/2025-11-17/
LOCATION:West New Brighton Library\, 976 Castleton Avenue\, Staten Island\, NY\, 10310\, United States
CATEGORIES:Staten Island
ATTACH;FMTTYPE=image/jpeg:https://mozartformunchkins.com/wp-content/uploads/unnamed-scaled.jpg
END:VEVENT
BEGIN:VEVENT
DTSTART;TZID=America/New_York:20251118T093000
DTEND;TZID=America/New_York:20251118T101500
DTSTAMP:20260423T081400
CREATED:20250820T203548Z
LAST-MODIFIED:20250820T203548Z
UID:43144-1763458200-1763460900@mozartformunchkins.com
SUMMARY:Symphony Superstars at Emanu-El Downtown
DESCRIPTION:Register at this link. Options for semester-long registration or drop-in! \nWelcome to the ultimate musical extravaganza! Symphony Superstars is where the youngest music enthusiasts explore the enchanting world of instruments without missing a beat! \n🥳🎹 Instrument Safari: From violins to trumpets\, our lively lead teacher guides our little Superstars through a different instrument each week. Get ready for a symphony of fun and discovery! \n🌈🎼 Interactive Exploration: Dive into the magic of hands-on learning! Kids will touch\, feel\, and play with instruments from all around the world\, making each session an interactive journey through the symphony. \n🎉🎶From classic tunes to new favorites\, our sessions are filled with giggles and melodies that will have your little Superstar singing along with joy! \nEnroll your tiny maestro today for Symphony Superstars – where every session is a sensational musical adventure without missing a playful note! 🌟🎶
URL:https://mozartformunchkins.com/event/symphony-superstars-at-temple-emanu-el-2/2025-11-18/
LOCATION:Emanu-El Downtown\, 15 W 16th St\, New York\, NY\, 10011\, United States
CATEGORIES:Chelsea
ATTACH;FMTTYPE=image/jpeg:https://mozartformunchkins.com/wp-content/uploads/kid-in-horn.jpg
END:VEVENT
BEGIN:VEVENT
DTSTART;TZID=America/New_York:20251118T110000
DTEND;TZID=America/New_York:20251118T114500
DTSTAMP:20260423T081400
CREATED:20250905T151707Z
LAST-MODIFIED:20250905T151707Z
UID:40558-1763463600-1763466300@mozartformunchkins.com
SUMMARY:Symphony Superstars with NYPL - Van Cortlandt Library
DESCRIPTION:Join us for an interactive musical experience with the New York Public Library! Each week\, superstars will encounter a new instrument and learn the fundamentals of rhythm and pitch. Families will be introduced to the violin\, viola\, cello\, piano\, french horn\, trombone\, trumpet\, clarinet\, and more. From jazz to classical\, world music\, bluegrass and more\, this program showcases different genres and gives kids a chance to get up close and personal with the instruments! \nThis program is for children\, birth to age 5 and their caregivers. Program is limited to 15 children. \nVisit the New York Public Library’s website for more details.
URL:https://mozartformunchkins.com/event/symphony-superstars-with-nypl-van-cortlandt-library/2025-11-18/
LOCATION:Van Cortlandt Library\, 3882 Cannon Place\, Bronx\, NY\, 10463\, United States
CATEGORIES:Bronx
ATTACH;FMTTYPE=image/jpeg:https://mozartformunchkins.com/wp-content/uploads/DSC00291-2-scaled.jpg
END:VEVENT
BEGIN:VEVENT
DTSTART;TZID=America/New_York:20251122T103000
DTEND;TZID=America/New_York:20251122T111500
DTSTAMP:20260423T081400
CREATED:20250805T141935Z
LAST-MODIFIED:20251122T121141Z
UID:39011-1763807400-1763810100@mozartformunchkins.com
SUMMARY:Jazzical!
DESCRIPTION:Get ready to tune in to the magic of live music and play on with interactive fun for the whole family! Featuring a lively band with vocals\, this concert blends the best of jazz\, classical\, and playful melodies in a way that keeps kids (and grown-ups!) fully engaged. \nExplore the unique sounds of each instrument and discover how they come together to create beautiful harmonies. Clap to rhythms\, imitate melodies\, and join in simple musical activities that spark creativity\, encourage focus\, and build a sense of community. With moments of mindful action woven throughout\, this program shows how music can inspire joy\, connection\, and mindful play. \nNo shushing allowed! Dance\, clap\, and immerse yourselves in this joyful celebration of music and movement. \nPerfect for families looking to experience the magic of jazz\, classical\, and interactive fun!
URL:https://mozartformunchkins.com/event/jazzical-2/
LOCATION:Greenwich House Music School\, 46 Barrow Street\, New York\, NY\, 10014\, United States
CATEGORIES:West Village
ATTACH;FMTTYPE=image/jpeg:https://mozartformunchkins.com/wp-content/uploads/DSC02023-scaled.jpg
END:VEVENT
BEGIN:VEVENT
DTSTART;TZID=America/New_York:20251123T103000
DTEND;TZID=America/New_York:20251123T111500
DTSTAMP:20260423T081400
CREATED:20250805T141807Z
LAST-MODIFIED:20251117T125143Z
UID:39015-1763893800-1763896500@mozartformunchkins.com
SUMMARY:Tune In\, Play On (Plus a K-Pop Demon Hunters Finale!)
DESCRIPTION:Our upcoming Tune In\, Play On program brings together piano\, violin\, and vocals for a joyful mix of classical masterpieces and familiar favorites — leading up to a show-stopping finale you won’t want to miss. \nCalling all K-Pop Demon Hunters fans — this one’s for you!\nFor our grand finale\, we’ll perform “What It Sounds Like” live\, and we’re inviting audience members to sing along with the band.\nWant to be part of it? Email info@mozartformunchkins.com by November 20 to join a short pre-show rehearsal and perform with us! \nThrough captivating classical favorites and playful modern tunes\, we’ll tune into the music—and ourselves—connecting to the moment with mindful listening\, movement\, and even a touch of improvisation. Little ones will love clapping\, singing\, and dancing along while learning how music can help us feel calm\, energized\, and inspired. \nA musical experience where every note reminds us to pause\, play\, and connect with our inner rhythm. 🎶✨ \nKids 13 and under are free!
URL:https://mozartformunchkins.com/event/tune-in-play-on-3/
LOCATION:Old Stone House\, 336 3rd St.\, Brooklyn\, NY\, 11215
CATEGORIES:Brooklyn
ATTACH;FMTTYPE=image/jpeg:https://mozartformunchkins.com/wp-content/uploads/IMG_4277-scaled.jpg
END:VEVENT
BEGIN:VEVENT
DTSTART;TZID=America/New_York:20251124T111500
DTEND;TZID=America/New_York:20251124T120000
DTSTAMP:20260423T081400
CREATED:20250905T151753Z
LAST-MODIFIED:20250905T151753Z
UID:40568-1763982900-1763985600@mozartformunchkins.com
SUMMARY:Symphony Superstars with NYPL - West New Brighton Library
DESCRIPTION:Join us for an interactive musical experience with the New York Public Library! Each week\, superstars will encounter a new instrument and learn the fundamentals of rhythm and pitch. Families will be introduced to the violin\, viola\, cello\, piano\, french horn\, trombone\, trumpet\, clarinet\, and more. From jazz to classical\, world music\, bluegrass and more\, this program showcases different genres and gives kids a chance to get up close and personal with the instruments! \nThis program is for children\, birth to 36 months and their caregivers. Program is limited to 15 children. \nVisit the New York Public Library’s website for more information.
URL:https://mozartformunchkins.com/event/symphony-superstars-with-nypl-west-new-brighton-library/2025-11-24/
LOCATION:West New Brighton Library\, 976 Castleton Avenue\, Staten Island\, NY\, 10310\, United States
CATEGORIES:Staten Island
ATTACH;FMTTYPE=image/jpeg:https://mozartformunchkins.com/wp-content/uploads/unnamed-scaled.jpg
END:VEVENT
BEGIN:VEVENT
DTSTART;TZID=America/New_York:20251125T093000
DTEND;TZID=America/New_York:20251125T101500
DTSTAMP:20260423T081400
CREATED:20250820T203548Z
LAST-MODIFIED:20250820T203548Z
UID:43145-1764063000-1764065700@mozartformunchkins.com
SUMMARY:Symphony Superstars at Emanu-El Downtown
DESCRIPTION:Register at this link. Options for semester-long registration or drop-in! \nWelcome to the ultimate musical extravaganza! Symphony Superstars is where the youngest music enthusiasts explore the enchanting world of instruments without missing a beat! \n🥳🎹 Instrument Safari: From violins to trumpets\, our lively lead teacher guides our little Superstars through a different instrument each week. Get ready for a symphony of fun and discovery! \n🌈🎼 Interactive Exploration: Dive into the magic of hands-on learning! Kids will touch\, feel\, and play with instruments from all around the world\, making each session an interactive journey through the symphony. \n🎉🎶From classic tunes to new favorites\, our sessions are filled with giggles and melodies that will have your little Superstar singing along with joy! \nEnroll your tiny maestro today for Symphony Superstars – where every session is a sensational musical adventure without missing a playful note! 🌟🎶
URL:https://mozartformunchkins.com/event/symphony-superstars-at-temple-emanu-el-2/2025-11-25/
LOCATION:Emanu-El Downtown\, 15 W 16th St\, New York\, NY\, 10011\, United States
CATEGORIES:Chelsea
ATTACH;FMTTYPE=image/jpeg:https://mozartformunchkins.com/wp-content/uploads/kid-in-horn.jpg
END:VEVENT
BEGIN:VEVENT
DTSTART;TZID=America/New_York:20251125T110000
DTEND;TZID=America/New_York:20251125T114500
DTSTAMP:20260423T081400
CREATED:20250905T151708Z
LAST-MODIFIED:20250905T151708Z
UID:40559-1764068400-1764071100@mozartformunchkins.com
SUMMARY:Symphony Superstars with NYPL - Van Cortlandt Library
DESCRIPTION:Join us for an interactive musical experience with the New York Public Library! Each week\, superstars will encounter a new instrument and learn the fundamentals of rhythm and pitch. Families will be introduced to the violin\, viola\, cello\, piano\, french horn\, trombone\, trumpet\, clarinet\, and more. From jazz to classical\, world music\, bluegrass and more\, this program showcases different genres and gives kids a chance to get up close and personal with the instruments! \nThis program is for children\, birth to age 5 and their caregivers. Program is limited to 15 children. \nVisit the New York Public Library’s website for more details.
URL:https://mozartformunchkins.com/event/symphony-superstars-with-nypl-van-cortlandt-library/2025-11-25/
LOCATION:Van Cortlandt Library\, 3882 Cannon Place\, Bronx\, NY\, 10463\, United States
CATEGORIES:Bronx
ATTACH;FMTTYPE=image/jpeg:https://mozartformunchkins.com/wp-content/uploads/DSC00291-2-scaled.jpg
END:VEVENT
END:VCALENDAR