BEGIN:VCALENDAR
VERSION:2.0
PRODID:-//Mozart for Munchkins - ECPv6.15.20//NONSGML v1.0//EN
CALSCALE:GREGORIAN
METHOD:PUBLISH
X-WR-CALNAME:Mozart for Munchkins
X-ORIGINAL-URL:https://mozartformunchkins.com
X-WR-CALDESC:Events for Mozart for Munchkins
REFRESH-INTERVAL;VALUE=DURATION:PT1H
X-Robots-Tag:noindex
X-PUBLISHED-TTL:PT1H
BEGIN:VTIMEZONE
TZID:America/New_York
BEGIN:DAYLIGHT
TZOFFSETFROM:-0500
TZOFFSETTO:-0400
TZNAME:EDT
DTSTART:20220313T070000
END:DAYLIGHT
BEGIN:STANDARD
TZOFFSETFROM:-0400
TZOFFSETTO:-0500
TZNAME:EST
DTSTART:20221106T060000
END:STANDARD
BEGIN:DAYLIGHT
TZOFFSETFROM:-0500
TZOFFSETTO:-0400
TZNAME:EDT
DTSTART:20230312T070000
END:DAYLIGHT
BEGIN:STANDARD
TZOFFSETFROM:-0400
TZOFFSETTO:-0500
TZNAME:EST
DTSTART:20231105T060000
END:STANDARD
BEGIN:DAYLIGHT
TZOFFSETFROM:-0500
TZOFFSETTO:-0400
TZNAME:EDT
DTSTART:20240310T070000
END:DAYLIGHT
BEGIN:STANDARD
TZOFFSETFROM:-0400
TZOFFSETTO:-0500
TZNAME:EST
DTSTART:20241103T060000
END:STANDARD
BEGIN:DAYLIGHT
TZOFFSETFROM:-0500
TZOFFSETTO:-0400
TZNAME:EDT
DTSTART:20250309T070000
END:DAYLIGHT
BEGIN:STANDARD
TZOFFSETFROM:-0400
TZOFFSETTO:-0500
TZNAME:EST
DTSTART:20251102T060000
END:STANDARD
END:VTIMEZONE
BEGIN:VEVENT
DTSTART;TZID=America/New_York:20240421T103000
DTEND;TZID=America/New_York:20240421T111500
DTSTAMP:20260422T155115
CREATED:20240417T161808Z
LAST-MODIFIED:20240417T191930Z
UID:14286-1713695400-1713698100@mozartformunchkins.com
SUMMARY:Pop-Up Earth Day Concert Featuring Musiquita!
DESCRIPTION:Celebrate Earth Day with Musiquita\, presented by Mozart for Munchkins\, in a special themed show that inspires environmental awareness and appreciation for our planet. Through an engaging blend of music\, storytelling\, and interactive activities\, Musiquita takes audiences on a journey to explore the wonders of nature and the importance of conservation. With uplifting melodies\, catchy tunes\, and educational messages\, this Earth Day-themed performance invites participants of all ages to join in the celebration of our planet and discover how they can make a positive impact on the world around them. Book now for an unforgettable Earth Day experience that will inspire\, entertain\, and educate!\n\n  \nDon’t forget to BYOB – bring your own park blanket! We also recommend some coffee & snacks to pair with the concert. \nKids under 13 are free!
URL:https://mozartformunchkins.com/event/pop-up-park-spring-swing-2/
LOCATION:Central Park at W 81st Street (past Diana Ross Playground)\, 81st Street and Central Park West\, New York\, NY
CATEGORIES:Upper West SIde
ATTACH;FMTTYPE=image/jpeg:https://mozartformunchkins.com/wp-content/uploads/Ric-Band.jpg
END:VEVENT
BEGIN:VEVENT
DTSTART;TZID=America/New_York:20240330T160000
DTEND;TZID=America/New_York:20240330T164500
DTSTAMP:20260422T155115
CREATED:20240326T150245Z
LAST-MODIFIED:20240328T230359Z
UID:14123-1711814400-1711817100@mozartformunchkins.com
SUMMARY:Pop-Up Park Spring Swing
DESCRIPTION:Swing into Spring with trombonist and singer Ric Becker and all his friends. From Mozart to Mingus\, their ensemble will present a seasonal program of jazz music for all ages. Sing along with the band\, clap your hands\, or join us in a freeze dance while we play an interactive concert for the whole family. At the end of our concert meet our musicians at the “instrument petting-zoo”. \nDon’t forget to BYOB – bring your own park blanket! We also recommend some happy hour snacks to pair with the jazz. \nKids under 13 are free!
URL:https://mozartformunchkins.com/event/pop-up-park-spring-swing/
LOCATION:Central Park at W 81st Street (past Diana Ross Playground)\, 81st Street and Central Park West\, New York\, NY
CATEGORIES:Upper West SIde
ATTACH;FMTTYPE=image/jpeg:https://mozartformunchkins.com/wp-content/uploads/Ric-Band.jpg
END:VEVENT
BEGIN:VEVENT
DTSTART;TZID=America/New_York:20230930T110000
DTEND;TZID=America/New_York:20230930T120000
DTSTAMP:20260422T155115
CREATED:20230901T143458Z
LAST-MODIFIED:20230901T143458Z
UID:10538-1696071600-1696075200@mozartformunchkins.com
SUMMARY:Let's Dance!
DESCRIPTION:Come sing\, dance\, and learn with Mozart for Munchkins! You’ll meet the clarinet\, bassoon \, and french horn as you move your feet with the beat and sing along to all of your favorites. With styles from jazz\, classical\, and pop\, this is one you won’t want to miss! \nChildren 12 and under are always free!
URL:https://mozartformunchkins.com/event/lets-dance/
LOCATION:Central Park at W 81st Street (past Diana Ross Playground)\, 81st Street and Central Park West\, New York\, NY
CATEGORIES:Upper West SIde
ATTACH;FMTTYPE=image/jpeg:https://mozartformunchkins.com/wp-content/uploads/IMG_4486-1.jpg
END:VEVENT
BEGIN:VEVENT
DTSTART;TZID=America/New_York:20230916T103000
DTEND;TZID=America/New_York:20230916T113000
DTSTAMP:20260422T155115
CREATED:20230905T015742Z
LAST-MODIFIED:20230905T102147Z
UID:10587-1694860200-1694863800@mozartformunchkins.com
SUMMARY:Jumping Jazz!
DESCRIPTION:Freeze dance jazz\, sing along scats\, and more\, this program will feature jazz favorites made to get you up and dancing featuring Ric Becker and his band. At the end of our concert meet our musician at “instrument petting-zoo”. \nChildren 12 and under are always free!
URL:https://mozartformunchkins.com/event/lets-dance-2/
LOCATION:Central Park at W 81st Street (past Diana Ross Playground)\, 81st Street and Central Park West\, New York\, NY
CATEGORIES:Upper West SIde
ATTACH;FMTTYPE=image/jpeg:https://mozartformunchkins.com/wp-content/uploads/Summer-Swing.jpg
END:VEVENT
BEGIN:VEVENT
DTSTART;TZID=America/New_York:20230909T110000
DTEND;TZID=America/New_York:20230909T120000
DTSTAMP:20260422T155115
CREATED:20230901T143218Z
LAST-MODIFIED:20230904T005456Z
UID:10536-1694257200-1694260800@mozartformunchkins.com
SUMMARY:Jazz+Classical=Jazzical!
DESCRIPTION:From jazz and bubbles to familiar classical tunes and stormy dances and more\, this music program is a unique interactive experience for all. You’ll meet the trumpet\, drums\, and french horn as you move your feet with the beat. At the end of our concert meet our musician at “instrument petting-zoo”. With styles from jazz\, classical\, and pop\, this is one you won’t want to miss! \nChildren 12 and under are always free!
URL:https://mozartformunchkins.com/event/jazz-brass/
LOCATION:Central Park at W 81st Street (past Diana Ross Playground)\, 81st Street and Central Park West\, New York\, NY
CATEGORIES:Upper West SIde
ATTACH;FMTTYPE=image/jpeg:https://mozartformunchkins.com/wp-content/uploads/Summer-Swing.jpg
END:VEVENT
BEGIN:VEVENT
DTSTART;TZID=America/New_York:20230625T110000
DTEND;TZID=America/New_York:20230625T120000
DTSTAMP:20260422T155115
CREATED:20230620T170251Z
LAST-MODIFIED:20230625T011326Z
UID:7658-1687690800-1687694400@mozartformunchkins.com
SUMMARY:Summer Swing! Outdoor Pop-Up
DESCRIPTION:Join us for a relaxed and interactive jazz concert outdoors. Stomp\, dance\, and clap along! This concert is designed to be an interactive musical experience for kids and families. \nChildren 12 and under are always free!
URL:https://mozartformunchkins.com/event/summer-swing-popupconcert/
LOCATION:Central Park at W 81st Street (past Diana Ross Playground)\, 81st Street and Central Park West\, New York\, NY
CATEGORIES:Upper West SIde
ATTACH;FMTTYPE=image/jpeg:https://mozartformunchkins.com/wp-content/uploads/Summer-Swing.jpg
END:VEVENT
BEGIN:VEVENT
DTSTART;TZID=America/New_York:20230506T103000
DTEND;TZID=America/New_York:20230506T113000
DTSTAMP:20260422T155115
CREATED:20230503T190404Z
LAST-MODIFIED:20230504T143802Z
UID:4779-1683369000-1683372600@mozartformunchkins.com
SUMMARY:Spring Swing-Outdoor Pop-Up!
DESCRIPTION:Grab a coffee\, your picnic blanket (kiddos too!) and head outdoors for our first pop-up concert of the season! Get ready to swing into spring with jazzy jams!  \nThis jazz set is curated for kids and their grown-ups featuring drums\, bass\, and saxophone! Get your dancing shoes ready and feel the beat in your feet! Featuring Evan Harris and his band. At the end of the concert\, meet our musician during the “instrument petting-zoo.” \nKids 12 and under are free!
URL:https://mozartformunchkins.com/event/spring-swing-outdoor-pop-up/
LOCATION:Central Park at W 81st Street (past Diana Ross Playground)\, 81st Street and Central Park West\, New York\, NY
CATEGORIES:Upper West SIde
ATTACH;FMTTYPE=image/jpeg:https://mozartformunchkins.com/wp-content/uploads/IMG_4703.jpg
END:VEVENT
END:VCALENDAR